BEGIN:VCALENDAR
VERSION:2.0
PRODID:-//Prana escuela de yoga - ECPv6.7.1//NONSGML v1.0//EN
CALSCALE:GREGORIAN
METHOD:PUBLISH
X-WR-CALNAME:Prana escuela de yoga
X-ORIGINAL-URL:https://pranaescueladeyoga.com
X-WR-CALDESC:Eventos para Prana escuela de yoga
REFRESH-INTERVAL;VALUE=DURATION:PT1H
X-Robots-Tag:noindex
X-PUBLISHED-TTL:PT1H
BEGIN:VTIMEZONE
TZID:Europe/Madrid
BEGIN:DAYLIGHT
TZOFFSETFROM:+0100
TZOFFSETTO:+0200
TZNAME:CEST
DTSTART:20240331T010000
END:DAYLIGHT
BEGIN:STANDARD
TZOFFSETFROM:+0200
TZOFFSETTO:+0100
TZNAME:CET
DTSTART:20241027T010000
END:STANDARD
END:VTIMEZONE
BEGIN:VEVENT
DTSTART;TZID=Europe/Madrid:20241201T100000
DTEND;TZID=Europe/Madrid:20241201T190000
DTSTAMP:20260420T233035
CREATED:20241129T105936Z
LAST-MODIFIED:20241202T083846Z
UID:10000017-1733047200-1733079600@pranaescueladeyoga.com
SUMMARY:CICLO DE TALLERES: TANTRA E INTIMIDAD SAGRADA
DESCRIPTION:CICLO DE TALLERES: TANTRA E INTIMIDAD SAGRADA\n\n\n\nCiclo de talleres: \n\n\n\nTANTRA e INTIMIDAD SAGRADA con Nakim J.C \n\n\n\nTaller de iniciación \n\n\n\n¿Sientes que estás viviendo una sexualidad insana o incompleta? \n\n\n\n¿Te deja vacío/a la sexualidad que vives? \n\n\n\n¿Anhelas una intimidad más plena\, consciente y amorosa? \n\n\n\n \n\n\n\nConoce la esencia del Tantra a través de este ciclo de talleres. \n\n\n\n \n\n\n\nAdéntrate en un camino de autoconocimiento y despertar interior que te llevará a una realización más plena de tu ser. \n\n\n\nLibérate de tabúes\, creencias limitantes y miedos sobre la intimidad a través de la consciencia y el amor. \n\n\n\nExperimenta una nueva forma de vivir la intimidad que abarca todas las dimensiones de tu persona y de tu ser. \n\n\n\n \n\n\n\nEl Tantra es: \n\n\n\nver lo sagrado en todo \n\n\n\nhacer divino lo mundano \n\n\n\nun encuentro consciente contigo mism@ a través del otro \n\n\n\nestar en la vida con el corazón abierto \n\n\n\nvolver a ser niño explorando la vida desde la inocencia y el juego \n\n\n\nvivir lo más grande de ti y lo más grande del otro \n\n\n\npasar a través de los miedos \n\n\n\niluminar tus sombras \n\n\n\nrealizar lo más auténtico y verdadero que hay en ti. \n\n\n\n \n\n\n\nTalleres abiertos a todo el público! \n\n\n\nNo necesaria experiencia! \n\n\n\nSábado 21 de diciembre \n\n\n\nDe 10 a 14h y de 16 a 19h \n\n\n\nEn “Prana”\, Escuela de Yoga de Alicante \n\n\n\nAportación: 60€ (reserva de plaza: 20€) \n\n\n\nImparte: Nakîm J.G. \n\n\n\n \n\n\n\nInstructor de Yoga\, Meditación y Tantra\, Coach Espiritual y Facilitador de Encuentros para el Despertar Interior con más de 25 años de experiencia. \n\n\n\n \n\n\n\nMás información: +34 744481384/ 639520952/ info@pranaescueladeyoga.com
URL:https://pranaescueladeyoga.com/evento/ciclo-de-talleres-tantra-e-intimidad-sagrada/
LOCATION:Alicante
CATEGORIES:Formación
ATTACH;FMTTYPE=image/png:https://pranaescueladeyoga.com/wp-content/uploads/2024/11/Diseno-sin-titulo-1-2.png
END:VEVENT
END:VCALENDAR