BEGIN:VCALENDAR
VERSION:2.0
PRODID:-//Prana escuela de yoga - ECPv6.7.1//NONSGML v1.0//EN
CALSCALE:GREGORIAN
METHOD:PUBLISH
X-ORIGINAL-URL:https://pranaescueladeyoga.com
X-WR-CALDESC:Eventos para Prana escuela de yoga
REFRESH-INTERVAL;VALUE=DURATION:PT1H
X-Robots-Tag:noindex
X-PUBLISHED-TTL:PT1H
BEGIN:VTIMEZONE
TZID:Europe/Madrid
BEGIN:DAYLIGHT
TZOFFSETFROM:+0100
TZOFFSETTO:+0200
TZNAME:CEST
DTSTART:20250330T010000
END:DAYLIGHT
BEGIN:STANDARD
TZOFFSETFROM:+0200
TZOFFSETTO:+0100
TZNAME:CET
DTSTART:20251026T010000
END:STANDARD
END:VTIMEZONE
BEGIN:VEVENT
DTSTART;TZID=Europe/Madrid:20250720T100000
DTEND;TZID=Europe/Madrid:20250720T190000
DTSTAMP:20260421T020024
CREATED:20240930T074026Z
LAST-MODIFIED:20250707T132825Z
UID:10000011-1753005600-1753038000@pranaescueladeyoga.com
SUMMARY:CICLO DE TALLERES: TANTRA E INTIMIDAD SAGRADA
DESCRIPTION:🌹 Ciclo de Talleres de Tantra en Alicante: Del amor al GOZO\n\n\n\n🌟 Taller TANTRA · 20 JULIO 2025 · ALICANTE 🌟“Del Amor al Gozo” – Liberando tu potencial extáticocon Nakîm \n\n\n\n💓 Todo el potencial extático que hay en ti está esperando a ser despertado y vivido. \n\n\n\n-A través del camino del Tantra abrimos la puerta al bienestar\, al gozo\, y al merecimiento total de los estados más plenos del Ser. \n\n\n\n ºEn este nuevo taller vamos a: ºLiberar sentimientos de culpa ºTransformar memorias de dolor º Reconectar con el placer de vivir ºDescubrir que el éxtasis puede sanar el inconsciente \n\n\n\n🌀 Si estás list@ para dejar atrás el dolor\, la lucha y la autoexigencia… y abrirte a una vida con más gozo\, disfrute y libertad interior\, este encuentro es para ti. \n\n\n\n📅 Domingo 20 de julio📍 Alicante💌 Info y reservas: 639 520 952/+34 744 481 384 /http://www.pranaescueladeyoga.com \n\n\n\n¡Te esperamos con el corazón abierto! \n\n\n\n🌟 Todo comienza y termina en ti. \n\n\n\n— \n\n\n\n#TantraConsciente #DespertarDelSer #DelAmorAlGozo #SanaciónEmocional #PlacerYConsciencia #VivirConGozo \n\n\n\nNakîm J.G.Instructor de Yoga\, Meditación y Tantra\, Coach Espiritual y Facilitador de Encuentros para el Despertar Interior. Más de 25 años de experiencia acompañando procesos de crecimiento personal y transformación espiritual
URL:https://pranaescueladeyoga.com/evento/talleres-tanta-e-intimidad-sagrada/
LOCATION:Alicante
CATEGORIES:Formación
ATTACH;FMTTYPE=image/png:https://pranaescueladeyoga.com/wp-content/uploads/2024/09/Diseno-sin-titulo-2-1.png
END:VEVENT
END:VCALENDAR