BEGIN:VCALENDAR
VERSION:2.0
PRODID:-//Prana escuela de yoga - ECPv6.7.1//NONSGML v1.0//EN
CALSCALE:GREGORIAN
METHOD:PUBLISH
X-ORIGINAL-URL:https://pranaescueladeyoga.com
X-WR-CALDESC:Eventos para Prana escuela de yoga
REFRESH-INTERVAL;VALUE=DURATION:PT1H
X-Robots-Tag:noindex
X-PUBLISHED-TTL:PT1H
BEGIN:VTIMEZONE
TZID:Europe/Madrid
BEGIN:DAYLIGHT
TZOFFSETFROM:+0100
TZOFFSETTO:+0200
TZNAME:CEST
DTSTART:20240331T010000
END:DAYLIGHT
BEGIN:STANDARD
TZOFFSETFROM:+0200
TZOFFSETTO:+0100
TZNAME:CET
DTSTART:20241027T010000
END:STANDARD
BEGIN:DAYLIGHT
TZOFFSETFROM:+0100
TZOFFSETTO:+0200
TZNAME:CEST
DTSTART:20250330T010000
END:DAYLIGHT
BEGIN:STANDARD
TZOFFSETFROM:+0200
TZOFFSETTO:+0100
TZNAME:CET
DTSTART:20251026T010000
END:STANDARD
END:VTIMEZONE
BEGIN:VEVENT
DTSTART;TZID=Europe/Madrid:20250208T180000
DTEND;TZID=Europe/Madrid:20250208T190000
DTSTAMP:20260425T154306
CREATED:20240930T073216Z
LAST-MODIFIED:20250209T151029Z
UID:10000007-1739037600-1739041200@pranaescueladeyoga.com
SUMMARY:EL GOZO DE AMAR-TE
DESCRIPTION:EL GOZO DE AMAR-TE \n\n\n\nRetiro de San Valentín con José Manuel Lorente y Remedios Caro. \n\n\n\nDel 14 al 16 de Febrero \n\n\n\nEn Sihu Ayurveda (Alcoy) \n\n\n\nVen a disfrutar de un San Valentín diferente dedicado a ti. \n\n\n\nUn fin de semana lleno de magia\, creatividad\, diversión y auto-cuidado. \n\n\n\nA través de diferentes herramientas procedentes del Yoga Integral\, lasmeditaciones activas\, el movimiento consciente y los ejerciciossistémicos nos adentraremos en un viaje de auto-descubrimiento hacia elGozo de Ser tu mism@. \n\n\n\nCon JOSÉ MANUEL LORENTE\, director de Prana\, Escuela de Yoga y formadorde profesores. \n\n\n\ny REMEDIOS CARO\, profesora de yoga y terapeuta craneo-sacral. \n\n\n\nAPORTACIÓN: 295 euros \n\n\n\n*** INCLUYE un MASAJE AYURVÉDICO para cada persona ofrecido por elEquipo de Sihu Ayurveda. \n\n\n\nSÓLO 9 PLAZAS DISPONIBLES !!!!! \n\n\n\nInformación y Reserva: 640854991 José Manuel / 635856088 Remedios
URL:https://pranaescueladeyoga.com/evento/el-gozo-de-amar-te/
CATEGORIES:Formación
ATTACH;FMTTYPE=image/png:https://pranaescueladeyoga.com/wp-content/uploads/2024/09/14-15-16-Febrero-Sihu-Ayurveda-Alcoy-295-euros-masaje-incluido-640-85-49-91-Jose-Manuel-635-85-60-88-Remedios-3.png
END:VEVENT
BEGIN:VEVENT
DTSTART;TZID=Europe/Madrid:20241213T190000
DTEND;TZID=Europe/Madrid:20241215T160000
DTSTAMP:20260425T154306
CREATED:20241111T195401Z
LAST-MODIFIED:20241111T200006Z
UID:10000015-1734116400-1734278400@pranaescueladeyoga.com
SUMMARY:RETIRO DE YOGA INTEGRAL
DESCRIPTION:Retiro de Yoga Integral\nDesconecta\, Comparte y Disfruta en la Naturaleza \nTe invitamos a vivir un fin de semana inmerso en la naturaleza y el silencio\, donde podrás descubrir todo lo que el Yoga Integral ofrece más allá de las posturas. \n¿Qué encontrarás en este retiro? \n\nMeditaciones: tanto estáticas como dinámicas.\nSesiones de Yoga Integral y prácticas energéticas y respiratorias.\nRelajación profunda (Yoga Nidra) para un descanso total.\nBhakti Dance y movimiento consciente para conectar con el cuerpo.\nPaseos meditativos en un entorno de serenidad.\nDeliciosa y nutritiva comida vegetariana\, preparada por nuestra anfitriona\, Lola.\n\nNo necesitas experiencia previa; este retiro es para todos. Solo necesitas ganas de aprender\, experimentar y compartir. \nDetalles del Retiro \n\nFechas: 13 – 14 – 15 de diciembre\nUbicación: Cortijo Aloe Vera\, Almería\nPrecio: 230 € (todo incluido)\nFacilitador: José Manuel Lorente\, director de Prana Escuela de Yoga en Alicante desde 1995 y formador de profesores de yoga.\n\nPlazas muy limitadas. \nVen a vivir esta experiencia de transformación y conexión profunda. \n\n\n\n\n\n\n \n \n\n\n\n\n\n  \n\n\n\n\n\n\n\n\n\n Tu nombre\n \n \n Tu correo electrónico\n \n \n Evento\n \n \n Tu mensaje (opcional)
URL:https://pranaescueladeyoga.com/evento/retiro-de-yoga-integral-2/
CATEGORIES:Retiro,Taller
ATTACH;FMTTYPE=image/png:https://pranaescueladeyoga.com/wp-content/uploads/2024/08/RETIRO-INTEGRAL-DICIEMBRE-2024.png
ORGANIZER;CN="Jos%C3%A9 Manuel Lorente":MAILTO:info@pranaescueladeyoga.com
END:VEVENT
BEGIN:VEVENT
DTSTART;TZID=Europe/Madrid:20241201T100000
DTEND;TZID=Europe/Madrid:20241201T190000
DTSTAMP:20260425T154306
CREATED:20241129T105936Z
LAST-MODIFIED:20241202T083846Z
UID:10000017-1733047200-1733079600@pranaescueladeyoga.com
SUMMARY:CICLO DE TALLERES: TANTRA E INTIMIDAD SAGRADA
DESCRIPTION:CICLO DE TALLERES: TANTRA E INTIMIDAD SAGRADA\n\n\n\nCiclo de talleres: \n\n\n\nTANTRA e INTIMIDAD SAGRADA con Nakim J.C \n\n\n\nTaller de iniciación \n\n\n\n¿Sientes que estás viviendo una sexualidad insana o incompleta? \n\n\n\n¿Te deja vacío/a la sexualidad que vives? \n\n\n\n¿Anhelas una intimidad más plena\, consciente y amorosa? \n\n\n\n \n\n\n\nConoce la esencia del Tantra a través de este ciclo de talleres. \n\n\n\n \n\n\n\nAdéntrate en un camino de autoconocimiento y despertar interior que te llevará a una realización más plena de tu ser. \n\n\n\nLibérate de tabúes\, creencias limitantes y miedos sobre la intimidad a través de la consciencia y el amor. \n\n\n\nExperimenta una nueva forma de vivir la intimidad que abarca todas las dimensiones de tu persona y de tu ser. \n\n\n\n \n\n\n\nEl Tantra es: \n\n\n\nver lo sagrado en todo \n\n\n\nhacer divino lo mundano \n\n\n\nun encuentro consciente contigo mism@ a través del otro \n\n\n\nestar en la vida con el corazón abierto \n\n\n\nvolver a ser niño explorando la vida desde la inocencia y el juego \n\n\n\nvivir lo más grande de ti y lo más grande del otro \n\n\n\npasar a través de los miedos \n\n\n\niluminar tus sombras \n\n\n\nrealizar lo más auténtico y verdadero que hay en ti. \n\n\n\n \n\n\n\nTalleres abiertos a todo el público! \n\n\n\nNo necesaria experiencia! \n\n\n\nSábado 21 de diciembre \n\n\n\nDe 10 a 14h y de 16 a 19h \n\n\n\nEn “Prana”\, Escuela de Yoga de Alicante \n\n\n\nAportación: 60€ (reserva de plaza: 20€) \n\n\n\nImparte: Nakîm J.G. \n\n\n\n \n\n\n\nInstructor de Yoga\, Meditación y Tantra\, Coach Espiritual y Facilitador de Encuentros para el Despertar Interior con más de 25 años de experiencia. \n\n\n\n \n\n\n\nMás información: +34 744481384/ 639520952/ info@pranaescueladeyoga.com
URL:https://pranaescueladeyoga.com/evento/ciclo-de-talleres-tantra-e-intimidad-sagrada/
CATEGORIES:Formación
ATTACH;FMTTYPE=image/png:https://pranaescueladeyoga.com/wp-content/uploads/2024/11/Diseno-sin-titulo-1-2.png
END:VEVENT
BEGIN:VEVENT
DTSTART;TZID=Europe/Madrid:20240928T090000
DTEND;TZID=Europe/Madrid:20240929T140000
DTSTAMP:20260425T154306
CREATED:20240801T023313Z
LAST-MODIFIED:20250519T111844Z
UID:10000005-1727514000-1727618400@pranaescueladeyoga.com
SUMMARY:XIV FORMACIÓN  YOGA INTEGRAL 580H
DESCRIPTION:Formación de Profesores/as de Yoga Integral – 14ª Promoción | Prana Escuela de Yoga\n\n\n\nInicio: 27 de septiembre de 2025Duración: 2 años | 580 horasUbicación: Prana Escuela de Yoga\, Alicante \n\n\n\n¿Buscas una formación de profesores de yoga seria\, profunda y transformadora?En Prana Escuela de Yoga abrimos el plazo de inscripción para nuestra 14ª Promoción de la Formación de Profesores/as de Yoga Integral\, una formación de referencia en España\, con más de 30 años de experiencia en la enseñanza del Yoga. \n\n\n\n¿Por qué formarte en Prana?\n\n\n\n✅ Formación completa de 580 horas\, estructurada en: \n\n\n\n\nTeoría y práctica de Yoga Integral (180 h) \n\n\n\nMetodología y pedagogía del yoga (280 h) \n\n\n\nPrácticas supervisadas en la escuela (120 h) \n\n\n\n\n✅ 12 módulos de fin de semana al año\, compatibles con tu vida profesional y personal.✅ 3 retiros residenciales en la naturaleza\, para una inmersión total.✅ Mentorías individuales y seguimiento personalizado durante todo el proceso.✅ Equipo docente especializado en cada materia\, con amplia experiencia en Yoga Integral\, anatomía\, pedagogía y meditación.✅ Bolsa de trabajo para apoyarte al finalizar tu formación.✅ Prácticas reales en nuestra escuela con clases supervisadas. \n\n\n\nAvalado y Certificado por:\n\n\n\n\nAPYIA: Asociación de Profesores de Yoga Integral de Alicante. \n\n\n\nYoga Alliance International: Certificación reconocida a nivel mundial. \n\n\n\n\n¿Quién dirige esta formación?\n\n\n\nLa formación está dirigida por José Manuel Lorente (Shankara)\, profesor y formador de Yoga Integral desde 1995\, fundador de Prana Escuela de Yoga\, con una extensa trayectoria en enseñanza\, retiros y formación de profesores/as de yoga. \n\n\n\n¿A quién va dirigida esta formación?\n\n\n\n\nA quienes desean formarse como profesores/as de Yoga Integral de forma seria y completa. \n\n\n\nA quienes buscan una transformación personal profunda a través del yoga. \n\n\n\nA practicantes de yoga que quieran profundizar en su práctica y conocimiento. \n\n\n\n\nInformación práctica\n\n\n\n🗓 Inicio: 27 de septiembre de 2025📍 Lugar: Prana Escuela de Yoga\, Alicante📆 Duración: 2 años🎓 Certificación: APYIA + Yoga Alliance International👥 Plazas muy limitadas \n\n\n\n🔗 Para más información y reserva de plaza:📱 WhatsApp: +34 639 520 952📧 Email: info@pranaescueladeyoga.com🌐 Web: www.pranaescueladeyoga.com
URL:https://pranaescueladeyoga.com/evento/xiii-formacion-profesores-yoga/
CATEGORIES:Formación
ATTACH;FMTTYPE=image/png:https://pranaescueladeyoga.com/wp-content/uploads/2024/08/FORMACION-CORRECTA.png
ORGANIZER;CN="Jos%C3%A9 Manuel Lorente":MAILTO:info@pranaescueladeyoga.com
END:VEVENT
END:VCALENDAR