BEGIN:VCALENDAR
VERSION:2.0
PRODID:-//Prana escuela de yoga - ECPv6.7.1//NONSGML v1.0//EN
CALSCALE:GREGORIAN
METHOD:PUBLISH
X-ORIGINAL-URL:https://pranaescueladeyoga.com
X-WR-CALDESC:Eventos para Prana escuela de yoga
REFRESH-INTERVAL;VALUE=DURATION:PT1H
X-Robots-Tag:noindex
X-PUBLISHED-TTL:PT1H
BEGIN:VTIMEZONE
TZID:Europe/Madrid
BEGIN:DAYLIGHT
TZOFFSETFROM:+0100
TZOFFSETTO:+0200
TZNAME:CEST
DTSTART:20250330T010000
END:DAYLIGHT
BEGIN:STANDARD
TZOFFSETFROM:+0200
TZOFFSETTO:+0100
TZNAME:CET
DTSTART:20251026T010000
END:STANDARD
BEGIN:DAYLIGHT
TZOFFSETFROM:+0100
TZOFFSETTO:+0200
TZNAME:CEST
DTSTART:20260329T010000
END:DAYLIGHT
BEGIN:STANDARD
TZOFFSETFROM:+0200
TZOFFSETTO:+0100
TZNAME:CET
DTSTART:20261025T010000
END:STANDARD
END:VTIMEZONE
BEGIN:VEVENT
DTSTART;TZID=Europe/Madrid:20251010T170000
DTEND;TZID=Europe/Madrid:20260530T190000
DTSTAMP:20260425T180320
CREATED:20250224T121950Z
LAST-MODIFIED:20250617T104639Z
UID:10000020-1760115600-1780167600@pranaescueladeyoga.com
SUMMARY:9º PROMOCIÓN: FORMACIÓN INTERNACIÓNAL YOGA DANZA HOLÍSTICO
DESCRIPTION: IX FORMACIÓN PARA PROFESORAS/ES DE YOGA DANZA HOLÍSTICO!!! \n\n\n\n (300 horas de: OCTUBRE 2025 – MAYO 2026) \n\n\n\n ¡ ABRIMOS PLAZO DE INSCRIPCIONES PARA TI  \n\n\n\n Fórmate en YogaDanzaHolístico\, si tienes un compromiso con: \n\n\n\ntu desarrollo personal y profesional.  \n\n\n\ntu salud y calidad de vida.  \n\n\n\ntu vocación para compartir aprendizajes con amor\, integridad y profesionalidad. \n\n\n\n Permítete que tu camino de crecimiento fluya conscientemente desde la armonía de tu esencia\, que los aprendizajes significativos\, el compromiso y la autenticidad te ayuden a evolucionar personal y profesionalmente. \n\n\n\n  Obtén una formación auténtica\, donde se funden tradiciones milenarias y modernidad. Única de su tipo en España y a nivel internacional.  \n\n\n\n Un programa académico estructurado de forma sistémica\, creativa\, progresiva\, dinámica y transformadora.  \n\n\n\n  Formación certificada por: Escuela de Yoga PRANA\, Yoga Alliance International (YAI)\, BIPDH Academy y la Asociación para la Difusión del Yoga\, la Salud y el Arte (Yoga & Música).  \n\n\n\nMás información y reservas: \n\n\n\nWSP: +34 722309314 / 639520952 \n\n\n\n https://yuniaespinosa.com
URL:https://pranaescueladeyoga.com/evento/formacion-yoga-danza/
CATEGORIES:Taller
ATTACH;FMTTYPE=image/png:https://pranaescueladeyoga.com/wp-content/uploads/2025/02/Diseno-sin-titulo-1.png
END:VEVENT
BEGIN:VEVENT
DTSTART;TZID=Europe/Madrid:20251025T100000
DTEND;TZID=Europe/Madrid:20260221T140000
DTSTAMP:20260425T180320
CREATED:20251015T130045Z
LAST-MODIFIED:20251015T131306Z
UID:10000032-1761386400-1771682400@pranaescueladeyoga.com
SUMMARY:CURSO: INTRODUCCIÓN AL AYURVEDA
DESCRIPTION:CURSO: INTRODUCCIÓN AL AYURVEDA\nPOR EL DR RAFAEL SANTAMARIA \nInicio: 25 de octubre · Formación presencial \n\n🌿 Vive el Ayurveda desde la experiencia\nEl Ayurveda es la medicina tradicional de la India y una de las ciencias de salud más antiguas del mundo. Su visión es clara: vivir en equilibrio es vivir en salud. No trata síntomas\, acompaña procesos\, respeta la naturaleza de cada persona e integra cuerpo\, mente y espíritu. \nEste curso está diseñado como una entrada amable y profunda al Ayurveda\, con un enfoque práctico y cercano para aprender a cuidar tu salud desde la raíz y vivir en armonía contigo mism@ y con tu entorno. \n\n📚 Información general\n\n\n\n\n\n \n \n\n\n\n\nDuración\n4 módulos · 16 horas presenciales\n\n\nFechas\n25 octubre · 22 noviembre · 24 enero 2026 · 21 febrero 2026\n\n\nHorario\nSábados de 10:00 a 14:00\n\n\nNivel\nIniciación – No se requieren conocimientos previos\n\n\nLugar\nPrana Escuela de Yoga · C/ Segura 21 (Alicante)\n\n\nPlazas\nLimitadas · Formación presencial\n\n\nOrganiza\nPrana Escuela de Yoga\n\n\n\n\n\n\n🎯 ¿Qué vas a aprender?\n✔ Comprender la visión del Ayurveda como ciencia de la vida✔ Identificar tu constitución personal (Prakriti)✔ Detectar desequilibrios según doshas y tipos de energía✔ Mejorar tu digestión\, descanso y vitalidad✔ Crear hábitos saludables sostenibles en el tiempo✔ Entender la relación entre Ayurveda y Yoga✔ Desarrollar autoconocimiento y salud integral \n\n🛠️ Metodología\nUn curso claro y accesible para todos: \n\n\nTeoría explicada de forma sencilla \n\n\nEjercicios prácticos personales \n\n\nCuestionarios de autoevaluación \n\n\nIntroducción a rutinas ayurvédicas reales \n\n\nIntegración con Yoga y Mindfulness \n\n\n\n🧭 Programa\nMódulo 1 – Ayurveda y salud integrativaMódulo 2 – Doshas\, constitución y fisiología ayurvédicaMódulo 3 – Desequilibrios\, causas y prevenciónMódulo 4 – Nutrición\, estilo de vida y aplicación práctica \n\n👨‍⚕️ Docente: Dr. Rafael Santamaría\n\n\nMédico licenciado (Universidad de Alicante) \n\n\nEspecialista en Medicina Psicosomática \n\n\nDiplomado en Ayurveda \n\n\nProfesor de Yoga (ETY) · Master Yoga Teacher – Yoga Alliance International \n\n\nFormación en Mindfulness (MBCT)\, Psicoterapia Somática y Teoría Polivagal \n\n\n\n📩 Información y reservas\n✅ Teléfono/WhatsApp Prana: 639 52 09 52✅ Email: prana.arunachala@gmail.com✅ Lugar: Prana Escuela de Yoga · C/ Segura 21 · Alicante \n\n💫 Ayurveda no es una teoría: es una forma de vivir\, comprenderse y florecer. \n\n 
URL:https://pranaescueladeyoga.com/evento/curso-introduccion-al-ayurveda/
LOCATION:Prana Escuela de Yoga\, Prana Escuela de Yoga Calle Segura 21\, 03004\, Alicante\, Alicante\, España
CATEGORIES:Formación
ATTACH;FMTTYPE=image/jpeg:https://pranaescueladeyoga.com/wp-content/uploads/2025/10/ca969c2bdb08416bc2ad2f1926c8dd75CAsnBlPhHXMQFnRK-0-1.jpg
END:VEVENT
BEGIN:VEVENT
DTSTART;TZID=Europe/Madrid:20260129T090000
DTEND;TZID=Europe/Madrid:20260218T203000
DTSTAMP:20260425T180320
CREATED:20250209T145658Z
LAST-MODIFIED:20251015T095256Z
UID:10000019-1769677200-1771446600@pranaescueladeyoga.com
SUMMARY:AYURVEDA Y YOGA\, RETIRO EN INDIA.
DESCRIPTION:🌿 Retiro Ayurveda & Yoga en India \n\n\n\n📅 29 enero – 18 febrero 2026📍 Kodakan Para · Kerala (India)💰 2.295 € \n\n\n\n✨ Una experiencia única de transformación\n\n\n\nUn viaje de 3 semanas en el sur de India\, donde Ayurveda y Yoga se encuentran como caminos de sanación\, equilibrio y autoconocimiento. \n\n\n\nDurante el retiro disfrutarás de: \n\n\n\n\n🧘‍♀️ Prácticas diarias de yoga y meditación con José Manuel Lorente\, director de Prana.\n\n\n\n🌿 Masajes y tratamientos ayurvédicos personalizados con Antonio Pleite y el equipo de Kodakan Para.\n\n\n\n🍲 Alimentación ayurvédica saludable\, preparada con esmero.\n\n\n\n🎶 Kirtan\, mantras y Bhakti Dance cada noche.\n\n\n\n🕌 Visita guiada a Mysore: palacio\, templos y mercados.\n\n\n\n🌊 Estancia en el Ashram de Amma en Amritapuri\, coincidiendo con la Gran Noche de Shiva (Maha Shivaratri).\n\n\n\n\n\n\n\n\n📅 Rutina diaria aproximada\n\n\n\n07:00 · Meditación y Surya Namaskar08:30 · Desayuno08:00–11:00 · Masajes y tratamientos12:00 · Yoga Nidra / Satsang13:30 · Comida15:00 · Nutrición y estilo de vida Ayurveda18:00 · Yoga Integral19:30 · Cena21:00 · Kirtan / Mantra / Bhakti Dance22:00 · Descanso \n\n\n\n\n\n\n\n💰 El precio incluye:\n\n\n\n✔️ Traslados internos en India (aeropuertos Kalicut y Trivandrum)✔️ Alojamiento en Kodakan Para (Kerala)✔️ Prácticas de yoga y meditación diarias✔️ Tratamientos y consultas ayurvédicas diarias✔️ Curso de nutrición y estilo de vida Ayurveda✔️ Excursión a Mysore (con transporte\, comidas y hotel)✔️ Estancia en Amritapuri (Ashram de Amma) del 14 al 17 febrero✔️ Celebración de Maha Shivaratri \n\n\n\n❌ No incluye: billetes de avión Madrid-India\, traslados en España\, visado y seguro de viaje (obligatorios). \n\n\n\n\n\n\n\n📌 Reservas y pagos\n\n\n\n\nReserva inicial: 700 €\n\n\n\n2º pago (antes del 30 noviembre): 700 €\n\n\n\n3º pago (antes del 30 enero): 895 €\n\n\n\n\n👉 Más información y reservas:📲 José Manuel · 640 85 49 91 \n\n\n\n\n\n\n\n💫 Un retiro para sumergirte en la tradición de India\, armonizar cuerpo\, mente y espíritu y celebrar la vida desde la esencia.
URL:https://pranaescueladeyoga.com/evento/retiro-yoga-ayurveda-india/
CATEGORIES:Retiro,Taller
ATTACH;FMTTYPE=image/png:https://pranaescueladeyoga.com/wp-content/uploads/2025/02/1-3.png
END:VEVENT
BEGIN:VEVENT
DTSTART;TZID=Europe/Madrid:20260220T170000
DTEND;TZID=Europe/Madrid:20260220T210000
DTSTAMP:20260425T180320
CREATED:20251006T101903Z
LAST-MODIFIED:20260202T104930Z
UID:10000030-1771606800-1771621200@pranaescueladeyoga.com
SUMMARY:Energías internas y externas. Percepción\, protección y armonía
DESCRIPTION:Energías internas y externas\n\n\n\nPercepción\, protección y armonía \n\n\n\nTaller vivencial \n\n\n\n\n\n\n\nEn este taller vivencial aprenderás a sentir\, reconocer y comprender tu propia energía\, desarrollando la capacidad de percibir cuándo se encuentra en equilibrio y cuándo presenta alteraciones que pueden afectar a tu bienestar físico\, emocional y mental. \n\n\n\nA través de una experiencia práctica y guiada\, exploraremos el uso de herramientas de percepción energética\, como el péndulo y las varillas\, no como objetos externos de poder\, sino como extensiones de tu sensibilidad\, tu presencia y tu conciencia. \n\n\n\nAprenderás a utilizarlas para: \n\n\n\n\nLeer campos energéticos\n\n\n\nDetectar bloqueos y desequilibrios\n\n\n\nComprender la información que se manifiesta en personas\, espacios\, vínculos e historias\n\n\n\n\nDurante el taller activaremos de forma consciente tus capacidades internas naturales para: \n\n\n\n\nLimpiar y armonizar tu espacio personal\n\n\n\nTransmutar cargas energéticas densas\n\n\n\nEquilibrar emociones retenidas\n\n\n\nLiberar memorias antiguas\, tanto personales como del entorno\n\n\n\n\nTrabajaremos con la energía de lugares\, experiencias pasadas\, relaciones y campos emocionales\, comprendiendo cómo influyen directamente en tu vida cotidiana. \n\n\n\nEste taller está orientado a ayudarte a liberarte de energías nocivas y bloqueos energéticos que pueden generar cansancio\, confusión\, malestar o desconexión\, para que puedas recuperar: \n\n\n\n\nTu claridad interna\n\n\n\nTu fuerza vital\n\n\n\nTu centramiento\n\n\n\nEl contacto con tu esencia luminosa y auténtica\n\n\n\n\n✨ No se requieren conocimientos previos.Es un espacio de aprendizaje\, experiencia directa y reconexión contigo. \n\n\n\nFacilita:Adrián Sánchez PortillaMaestro en Metafísica y Ciencias Espirituales.Terapias Energéticas e Integrativas\, Sintergética\, Biocoherencia\, Reiki\, Constelaciones Cuánticas\, Visión Extraocular y más. \n\n\n\n📍 Prana Escuela de Yoga · C/ Segura 21🗓 Viernes 20 de febrero🕔 17:00 – 21:00 h💶 Inversión: 40 €📲 Información e inscripción: 672 048 182📞 639 31 74 55 · 639 520 952🌐 www.pranaescueladeyoga.com
URL:https://pranaescueladeyoga.com/evento/energias-internas-energias-externas/
CATEGORIES:Taller
ATTACH;FMTTYPE=image/png:https://pranaescueladeyoga.com/wp-content/uploads/2025/10/Diseno-sin-titulo-11.png
END:VEVENT
BEGIN:VEVENT
DTSTART;TZID=Europe/Madrid:20260228T100000
DTEND;TZID=Europe/Madrid:20260801T200000
DTSTAMP:20260425T180320
CREATED:20240801T015319Z
LAST-MODIFIED:20260123T144927Z
UID:10000004-1772272800-1785614400@pranaescueladeyoga.com
SUMMARY:FORMACIÓN TERAPIAS AYURVÉDICAS
DESCRIPTION:FORMACIÓN TERAPIAS AYURVÉDICAS\nPOR YOLANDA ROMÁ Y SARA FERGÓ \nAyurveda para transformar tu forma de tocar\, vivir y sanar\nNuevo curso de terapias ayurvédicas en Alicante – Formación presencial con plazas limitadas \n¿Eres terapeuta\, masajista\, profesor/a de yoga o simplemente buscas una visión más profunda del bienestar?Te presentamos una formación completa y progresiva\, diseñada para que puedas iniciar tu camino con el primer nivel y\, si lo deseas\, continuar hacia una especialización avanzada. \nAprenderás desde la raíz\, integrando conocimientos teóricos y prácticos para el desarrollo de tu práctica profesional y tu crecimiento personal. \n\nCurso 1 – Masaje Ayurvédico e Introducción al Ayurveda\nIdeal para quienes desean iniciarse en el Ayurveda o sumar una base sólida a su práctica terapéutica. \n\n\nMasaje Abhyanga y Champi \n\n\nFundamentos del Ayurveda \n\n\nFilosofía\, psicología\, anatomía y fisiología ayurvédica \n\n\nPrincipios de nutrición según el Ayurveda \n\n\nIntroducción a plantas medicinales \n\n\nDinacharya: rutinas diarias para el equilibrio físico y emocional \n\n\n\nCurso 2 – Terapias Ayurvédicas y Profundización\nUn paso más para ampliar tus conocimientos y ofrecer tratamientos más completos. \n\n\nMasaje con pindas y su elaboración \n\n\nUdvartana (masaje exfoliante) \n\n\nBasti\, Nasya y Karnapurana \n\n\nShirodhara y Swedana \n\n\nMarmaterapia \n\n\nProfundización en nutrición\, fitoterapia\, diagnóstico y tratamiento \n\n\nIntroducción al Panchakarma \n\n\n\nDetalles de la formación\n\n\nFormato: Un fin de semana al mes \n\n\nDuración: 8 meses por curso \n\n\nLugar: Escuela de Yoga Prana – Calle Segura 21\, Alicante \n\n\nTiempo real para integrar\, practicar y transformar tus conocimientos. \n\n\n\n  \n📞 Más información y reservas:\n📞 Yolanda: 655 97 89 75 / 639 520 952🏠 www.pranaescueladeyoga.com
URL:https://pranaescueladeyoga.com/evento/formacion-terapias-ayurvedicas/
LOCATION:Prana Escuela de Yoga\, Prana Escuela de Yoga Calle Segura 21\, 03004\, Alicante\, Alicante\, España
CATEGORIES:Formación
ATTACH;FMTTYPE=image/png:https://pranaescueladeyoga.com/wp-content/uploads/2024/08/Curso-Masaje-Ayurvedico-28-FEB-26-Post-2.png
END:VEVENT
END:VCALENDAR